BEGIN:VCALENDAR
VERSION:2.0
METHOD:PUBLISH
X-WR-CALNAME:Tahakopa School |  December 01 2017- January 01 2018
PRODID:-//strange bird labs//Drupal iCal API//EN
BEGIN:VEVENT
DTSTAMP;VALUE=DATE-TIME:20180121T052507Z
DTSTART;VALUE=DATE-TIME:20171130T224800Z
DTEND;VALUE=DATE-TIME:20020203
UID:http://tahakopa.school.nz/surfing
URL;VALUE=URI:http://tahakopa.school.nz/surfing
SUMMARY:Surfing
END:VEVENT
BEGIN:VEVENT
DTSTAMP;VALUE=DATE-TIME:20180121T052507Z
DTSTART;VALUE=DATE-TIME:20171211T133000Z
DTEND;VALUE=DATE-TIME:20171211T133000Z
UID:http://tahakopa.school.nz/bot-meeting-13
URL;VALUE=URI:http://tahakopa.school.nz/bot-meeting-13
SUMMARY:BOT meeting
END:VEVENT
BEGIN:VEVENT
DTSTAMP;VALUE=DATE-TIME:20180121T052507Z
DTSTART;VALUE=DATE-TIME:20171214T180000Z
DTEND;VALUE=DATE-TIME:20171214T180000Z
UID:http://tahakopa.school.nz/christmas-concert-0
URL;VALUE=URI:http://tahakopa.school.nz/christmas-concert-0
SUMMARY:Christmas Concert
END:VEVENT
BEGIN:VEVENT
DTSTAMP;VALUE=DATE-TIME:20180121T052507Z
DTSTART;VALUE=DATE-TIME:20171218T233000Z
DTEND;VALUE=DATE-TIME:20171218T233000Z
UID:http://tahakopa.school.nz/shared-lunch-and-assembly
URL;VALUE=URI:http://tahakopa.school.nz/shared-lunch-and-assembly
SUMMARY:Shared lunch and Assembly
END:VEVENT
BEGIN:VEVENT
DTSTAMP;VALUE=DATE-TIME:20180121T052507Z
DTSTART;VALUE=DATE-TIME:20171219T233000Z
DTEND;VALUE=DATE-TIME:20171219T233000Z
UID:http://tahakopa.school.nz/last-day
URL;VALUE=URI:http://tahakopa.school.nz/last-day
SUMMARY:Last day
END:VEVENT
END:VCALENDAR
